BEGIN:VCALENDAR
VERSION:2.0
PRODID:-//ASV Friedrichshafen e.V. - ECPv6.15.20//NONSGML v1.0//EN
CALSCALE:GREGORIAN
METHOD:PUBLISH
X-WR-CALNAME:ASV Friedrichshafen e.V.
X-ORIGINAL-URL:https://asv-friedrichshafen.de
X-WR-CALDESC:Veranstaltungen für ASV Friedrichshafen e.V.
REFRESH-INTERVAL;VALUE=DURATION:PT1H
X-Robots-Tag:noindex
X-PUBLISHED-TTL:PT1H
BEGIN:VTIMEZONE
TZID:Europe/Berlin
BEGIN:DAYLIGHT
TZOFFSETFROM:+0100
TZOFFSETTO:+0200
TZNAME:CEST
DTSTART:20250330T010000
END:DAYLIGHT
BEGIN:STANDARD
TZOFFSETFROM:+0200
TZOFFSETTO:+0100
TZNAME:CET
DTSTART:20251026T010000
END:STANDARD
BEGIN:DAYLIGHT
TZOFFSETFROM:+0100
TZOFFSETTO:+0200
TZNAME:CEST
DTSTART:20260329T010000
END:DAYLIGHT
BEGIN:STANDARD
TZOFFSETFROM:+0200
TZOFFSETTO:+0100
TZNAME:CET
DTSTART:20261025T010000
END:STANDARD
BEGIN:DAYLIGHT
TZOFFSETFROM:+0100
TZOFFSETTO:+0200
TZNAME:CEST
DTSTART:20270328T010000
END:DAYLIGHT
BEGIN:STANDARD
TZOFFSETFROM:+0200
TZOFFSETTO:+0100
TZNAME:CET
DTSTART:20271031T010000
END:STANDARD
END:VTIMEZONE
BEGIN:VEVENT
DTSTART;TZID=Europe/Berlin:20261107T180000
DTEND;TZID=Europe/Berlin:20261107T230000
DTSTAMP:20260425T010005
CREATED:20251218T122354Z
LAST-MODIFIED:20251218T122354Z
UID:2122-1794074400-1794092400@asv-friedrichshafen.de
SUMMARY:Filetabend
DESCRIPTION:Für Anmeldung hängen wir wieder eine Teilnehmerliste im ASV Vereinsheim auf.\nFür die Vorbereitungen und Durchführung benötigen wir wieder Eure Hilfe. \nDie Festwarte werden Euch zeitig kontaktieren bzw. ihr könnt Euch auch bei Tim Diefenbach melden
URL:https://asv-friedrichshafen.de/event/filetabend-4/
END:VEVENT
BEGIN:VEVENT
DTSTART;TZID=Europe/Berlin:20261110T183000
DTEND;TZID=Europe/Berlin:20261110T220000
DTSTAMP:20260425T010005
CREATED:20251218T122452Z
LAST-MODIFIED:20251218T122452Z
UID:2124-1794335400-1794348000@asv-friedrichshafen.de
SUMMARY:10. Vorstand und Ausschusssitzung
DESCRIPTION:
URL:https://asv-friedrichshafen.de/event/10-vorstand-und-ausschusssitzung/
END:VEVENT
BEGIN:VEVENT
DTSTART;TZID=Europe/Berlin:20261121T193000
DTEND;TZID=Europe/Berlin:20261121T233000
DTSTAMP:20260425T010005
CREATED:20251218T122625Z
LAST-MODIFIED:20251218T122625Z
UID:2126-1795289400-1795303800@asv-friedrichshafen.de
SUMMARY:Familienabend
DESCRIPTION:Einlass um 18h30
URL:https://asv-friedrichshafen.de/event/familienabend-3/
END:VEVENT
END:VCALENDAR