BEGIN:VCALENDAR
VERSION:2.0
PRODID:-//ASV Friedrichshafen e.V. - ECPv6.15.20//NONSGML v1.0//EN
CALSCALE:GREGORIAN
METHOD:PUBLISH
X-WR-CALNAME:ASV Friedrichshafen e.V.
X-ORIGINAL-URL:https://asv-friedrichshafen.de
X-WR-CALDESC:Veranstaltungen für ASV Friedrichshafen e.V.
REFRESH-INTERVAL;VALUE=DURATION:PT1H
X-Robots-Tag:noindex
X-PUBLISHED-TTL:PT1H
BEGIN:VTIMEZONE
TZID:Europe/Berlin
BEGIN:DAYLIGHT
TZOFFSETFROM:+0100
TZOFFSETTO:+0200
TZNAME:CEST
DTSTART:20250330T010000
END:DAYLIGHT
BEGIN:STANDARD
TZOFFSETFROM:+0200
TZOFFSETTO:+0100
TZNAME:CET
DTSTART:20251026T010000
END:STANDARD
BEGIN:DAYLIGHT
TZOFFSETFROM:+0100
TZOFFSETTO:+0200
TZNAME:CEST
DTSTART:20260329T010000
END:DAYLIGHT
BEGIN:STANDARD
TZOFFSETFROM:+0200
TZOFFSETTO:+0100
TZNAME:CET
DTSTART:20261025T010000
END:STANDARD
BEGIN:DAYLIGHT
TZOFFSETFROM:+0100
TZOFFSETTO:+0200
TZNAME:CEST
DTSTART:20270328T010000
END:DAYLIGHT
BEGIN:STANDARD
TZOFFSETFROM:+0200
TZOFFSETTO:+0100
TZNAME:CET
DTSTART:20271031T010000
END:STANDARD
END:VTIMEZONE
BEGIN:VEVENT
DTSTART;TZID=Europe/Berlin:20260704T050000
DTEND;TZID=Europe/Berlin:20260704T120000
DTSTAMP:20260422T115911
CREATED:20251217T180559Z
LAST-MODIFIED:20251217T180559Z
UID:2105-1783141200-1783166400@asv-friedrichshafen.de
SUMMARY:5. Gemeinschaftsfischen
DESCRIPTION:Bitte das frühe Ende um 12h00 beachten. Wir haben uns entschieden bei der großen Hitze um 12h00 das Fischen zu beenden.\nNeben der Gesundheit geht es auch um die Kühlung und Qualität der gefangenen Fische \nAnschließend ab 13h00 wiegen der Fische und gemeinsames Essen am Vereinsheim
URL:https://asv-friedrichshafen.de/event/5-gemeinschaftsfischen/
LOCATION:Vereinsheim
END:VEVENT
BEGIN:VEVENT
DTSTART;TZID=Europe/Berlin:20260711T080000
DTEND;TZID=Europe/Berlin:20260711T120000
DTSTAMP:20260422T115911
CREATED:20260224T191036Z
LAST-MODIFIED:20260224T191036Z
UID:2153-1783756800-1783771200@asv-friedrichshafen.de
SUMMARY:Jugend Rotachfischen II
DESCRIPTION:Ansprechpartner David Hund
URL:https://asv-friedrichshafen.de/event/jugend-rotachfischen-ii/
END:VEVENT
BEGIN:VEVENT
DTSTART;TZID=Europe/Berlin:20260714T183000
DTEND;TZID=Europe/Berlin:20260714T220000
DTSTAMP:20260422T115911
CREATED:20251217T180709Z
LAST-MODIFIED:20251217T180744Z
UID:2107-1784053800-1784066400@asv-friedrichshafen.de
SUMMARY:7. Vorstand und Ausschusssitzung
DESCRIPTION:
URL:https://asv-friedrichshafen.de/event/7-vorstand-und-ausschusssitzung/
LOCATION:Vereinsheim
END:VEVENT
BEGIN:VEVENT
DTSTART;TZID=Europe/Berlin:20260718T190000
DTEND;TZID=Europe/Berlin:20260718T230000
DTSTAMP:20260422T115911
CREATED:20251217T181005Z
LAST-MODIFIED:20251217T181005Z
UID:2109-1784401200-1784415600@asv-friedrichshafen.de
SUMMARY:Lampionkorso am Seehasensamstag
DESCRIPTION:Wir bitten um zahlreiche Teilnahme damit der ASV bei der Durchführung ein ordentliches und schönes Bild abgibt.\nBitte überprüft Eure Lichterketten.
URL:https://asv-friedrichshafen.de/event/lampionkorso-am-seehasensamstag/
END:VEVENT
BEGIN:VEVENT
DTSTART;TZID=Europe/Berlin:20260725T060000
DTEND;TZID=Europe/Berlin:20260725T180000
DTSTAMP:20260422T115911
CREATED:20251217T181435Z
LAST-MODIFIED:20251217T181435Z
UID:2111-1784959200-1785002400@asv-friedrichshafen.de
SUMMARY:6. Gemeinschaftsfischen (Lüner See) zusammen mit der Jugendgruppe
DESCRIPTION:Es wird wieder eine Teilnahmeliste im Vereinsheim ausgehängt.\nTragt Euch bitte in der Teilnehmerliste ein.\nDamit wir planen können sind die Anmeldungen verbindlich. \nAbfahrt ist um 6h00 \nNach Ankunft gibt es wieder ein gemeinsames Abendessen im/am Vereinsheim \n 
URL:https://asv-friedrichshafen.de/event/6-gemeinschaftsfischen-luener-see-zusammen-mit-der-jugendgruppe/
END:VEVENT
END:VCALENDAR