BEGIN:VCALENDAR
VERSION:2.0
PRODID:-//ASV Friedrichshafen e.V. - ECPv6.15.20//NONSGML v1.0//EN
CALSCALE:GREGORIAN
METHOD:PUBLISH
X-ORIGINAL-URL:https://asv-friedrichshafen.de
X-WR-CALDESC:Veranstaltungen für ASV Friedrichshafen e.V.
REFRESH-INTERVAL;VALUE=DURATION:PT1H
X-Robots-Tag:noindex
X-PUBLISHED-TTL:PT1H
BEGIN:VTIMEZONE
TZID:Europe/Berlin
BEGIN:DAYLIGHT
TZOFFSETFROM:+0100
TZOFFSETTO:+0200
TZNAME:CEST
DTSTART:20250330T010000
END:DAYLIGHT
BEGIN:STANDARD
TZOFFSETFROM:+0200
TZOFFSETTO:+0100
TZNAME:CET
DTSTART:20251026T010000
END:STANDARD
BEGIN:DAYLIGHT
TZOFFSETFROM:+0100
TZOFFSETTO:+0200
TZNAME:CEST
DTSTART:20260329T010000
END:DAYLIGHT
BEGIN:STANDARD
TZOFFSETFROM:+0200
TZOFFSETTO:+0100
TZNAME:CET
DTSTART:20261025T010000
END:STANDARD
BEGIN:DAYLIGHT
TZOFFSETFROM:+0100
TZOFFSETTO:+0200
TZNAME:CEST
DTSTART:20270328T010000
END:DAYLIGHT
BEGIN:STANDARD
TZOFFSETFROM:+0200
TZOFFSETTO:+0100
TZNAME:CET
DTSTART:20271031T010000
END:STANDARD
END:VTIMEZONE
BEGIN:VEVENT
DTSTART;TZID=Europe/Berlin:20260609T183000
DTEND;TZID=Europe/Berlin:20260609T220000
DTSTAMP:20260422T103438
CREATED:20251216T121322Z
LAST-MODIFIED:20251216T121322Z
UID:2099-1781029800-1781042400@asv-friedrichshafen.de
SUMMARY:6. Vorstand und Ausschusssitzung
DESCRIPTION:
URL:https://asv-friedrichshafen.de/event/6-vorstand-und-ausschusssitzung/
LOCATION:Vereinsheim
END:VEVENT
BEGIN:VEVENT
DTSTART;TZID=Europe/Berlin:20260614T110000
DTEND;TZID=Europe/Berlin:20260614T180000
DTSTAMP:20260422T103438
CREATED:20251216T121603Z
LAST-MODIFIED:20251216T121603Z
UID:2101-1781434800-1781460000@asv-friedrichshafen.de
SUMMARY:Freundschaftstreffen Romanshorn in FN
DESCRIPTION:Unsere Freunde vom Angelverein Romanshorn sind zu Gast bei uns in Friedrichshafen.\nWir bitten um zahlreiche Teilnahme am Treffen.  Das Programm wird noch bekannt gegeben
URL:https://asv-friedrichshafen.de/event/freundschaftstreffen-romanshorn-in-fn/
END:VEVENT
BEGIN:VEVENT
DTSTART;VALUE=DATE:20260626
DTEND;VALUE=DATE:20260629
DTSTAMP:20260422T103438
CREATED:20260224T190947Z
LAST-MODIFIED:20260224T190947Z
UID:2151-1782432000-1782691199@asv-friedrichshafen.de
SUMMARY:Jugendwochenende in Riedhausen
DESCRIPTION:Ansprechpartner Julian Akermann / Leon Reiner
URL:https://asv-friedrichshafen.de/event/jugendwochenende-in-riedhausen/
END:VEVENT
BEGIN:VEVENT
DTSTART;TZID=Europe/Berlin:20260628T100000
DTEND;TZID=Europe/Berlin:20260628T170000
DTSTAMP:20260422T103438
CREATED:20251216T122042Z
LAST-MODIFIED:20260328T171735Z
UID:2103-1782640800-1782666000@asv-friedrichshafen.de
SUMMARY:Holzweiherfest abgesagt für 2026
DESCRIPTION:Wir veranstalten wieder unser Holzweiherfest. Die Neukirchner Bevölkerung hat uns darum gebeten dies wieder zu veranstalten.\nBitte helft uns beim Aufbau und Durchführung der Veranstaltung.\nDie Uhrzeit ist noch zu bestätigen. \n  \nAnsprechpartner ist unser Festwart  Tim Diefenbach
URL:https://asv-friedrichshafen.de/event/holzweiherfest/
END:VEVENT
END:VCALENDAR