BEGIN:VCALENDAR
VERSION:2.0
PRODID:-//ASV Friedrichshafen e.V. - ECPv6.15.20//NONSGML v1.0//EN
CALSCALE:GREGORIAN
METHOD:PUBLISH
X-ORIGINAL-URL:https://asv-friedrichshafen.de
X-WR-CALDESC:Veranstaltungen für ASV Friedrichshafen e.V.
REFRESH-INTERVAL;VALUE=DURATION:PT1H
X-Robots-Tag:noindex
X-PUBLISHED-TTL:PT1H
BEGIN:VTIMEZONE
TZID:Europe/Berlin
BEGIN:DAYLIGHT
TZOFFSETFROM:+0100
TZOFFSETTO:+0200
TZNAME:CEST
DTSTART:20240331T010000
END:DAYLIGHT
BEGIN:STANDARD
TZOFFSETFROM:+0200
TZOFFSETTO:+0100
TZNAME:CET
DTSTART:20241027T010000
END:STANDARD
BEGIN:DAYLIGHT
TZOFFSETFROM:+0100
TZOFFSETTO:+0200
TZNAME:CEST
DTSTART:20250330T010000
END:DAYLIGHT
BEGIN:STANDARD
TZOFFSETFROM:+0200
TZOFFSETTO:+0100
TZNAME:CET
DTSTART:20251026T010000
END:STANDARD
BEGIN:DAYLIGHT
TZOFFSETFROM:+0100
TZOFFSETTO:+0200
TZNAME:CEST
DTSTART:20260329T010000
END:DAYLIGHT
BEGIN:STANDARD
TZOFFSETFROM:+0200
TZOFFSETTO:+0100
TZNAME:CET
DTSTART:20261025T010000
END:STANDARD
END:VTIMEZONE
BEGIN:VEVENT
DTSTART;TZID=Europe/Berlin:20251104T183000
DTEND;TZID=Europe/Berlin:20251104T220000
DTSTAMP:20260422T121606
CREATED:20250104T113736Z
LAST-MODIFIED:20250104T113736Z
UID:1944-1762281000-1762293600@asv-friedrichshafen.de
SUMMARY:9. Ausschusssitzung
DESCRIPTION:
URL:https://asv-friedrichshafen.de/event/9-ausschusssitzung-3/
END:VEVENT
BEGIN:VEVENT
DTSTART;VALUE=DATE:20251108
DTEND;VALUE=DATE:20251109
DTSTAMP:20260422T121606
CREATED:20251008T154953Z
LAST-MODIFIED:20251008T154953Z
UID:2043-1762560000-1762646399@asv-friedrichshafen.de
SUMMARY:Arbeitseinsatz Filetabend
DESCRIPTION:Für den Filetabend benötigen wir 15 fleißige Helferlein in mehreren Schichten im Vereinsheim\, die den Abend für alle unvergesslich machen. \nFür nähere Infos ist euer Ansprechpartner Tim Diefenbach (Festwart): 015125265309
URL:https://asv-friedrichshafen.de/event/arbeitseinsatz-filetabend-3/
END:VEVENT
BEGIN:VEVENT
DTSTART;TZID=Europe/Berlin:20251108T080000
DTEND;TZID=Europe/Berlin:20251108T130000
DTSTAMP:20260422T121606
CREATED:20250912T071812Z
LAST-MODIFIED:20250921T150600Z
UID:2017-1762588800-1762606800@asv-friedrichshafen.de
SUMMARY:Arbeitseinsatz Hegerweiher
DESCRIPTION:bitte bei Peter Kowalewski   (017696201886) melden
URL:https://asv-friedrichshafen.de/event/arbeitseinsatz-hegerweiher-3/
LOCATION:Hegerweiher
END:VEVENT
BEGIN:VEVENT
DTSTART;TZID=Europe/Berlin:20251108T180000
DTEND;TZID=Europe/Berlin:20251108T220000
DTSTAMP:20260422T121607
CREATED:20250104T114405Z
LAST-MODIFIED:20250104T114405Z
UID:1948-1762624800-1762639200@asv-friedrichshafen.de
SUMMARY:Filetabend
DESCRIPTION:Aushang zur Anmeldung erfolgt rechtzeitig an der Pinnwand im ASV
URL:https://asv-friedrichshafen.de/event/filetabend-3/
END:VEVENT
BEGIN:VEVENT
DTSTART;TZID=Europe/Berlin:20251114T190000
DTEND;TZID=Europe/Berlin:20251114T220000
DTSTAMP:20260422T121607
CREATED:20250104T112558Z
LAST-MODIFIED:20250104T112558Z
UID:1926-1763146800-1763157600@asv-friedrichshafen.de
SUMMARY:Stammtisch im ASV
DESCRIPTION:
URL:https://asv-friedrichshafen.de/event/stammtisch-im-asv-10/
END:VEVENT
BEGIN:VEVENT
DTSTART;TZID=Europe/Berlin:20251122T080000
DTEND;TZID=Europe/Berlin:20251122T130000
DTSTAMP:20260422T121607
CREATED:20251008T155221Z
LAST-MODIFIED:20251008T155234Z
UID:2045-1763798400-1763816400@asv-friedrichshafen.de
SUMMARY:Arbeitseinsatz Familienabend Aufbau
DESCRIPTION:Für den Familienabend benötigen wir 7 fleißige Helferlein für den Aufbau. \nFür nähere Infos ist euer Ansprechpartner Tim Diefenbach (Festwart): 015125265309
URL:https://asv-friedrichshafen.de/event/arbeitseinsatz-familienabend-aufbau-2/
END:VEVENT
BEGIN:VEVENT
DTSTART;TZID=Europe/Berlin:20251122T183000
DTEND;TZID=Europe/Berlin:20251122T230000
DTSTAMP:20260422T121607
CREATED:20250104T114553Z
LAST-MODIFIED:20250104T115412Z
UID:1950-1763836200-1763852400@asv-friedrichshafen.de
SUMMARY:Familienabend
DESCRIPTION:
URL:https://asv-friedrichshafen.de/event/familienabend-2/
END:VEVENT
BEGIN:VEVENT
DTSTART;TZID=Europe/Berlin:20251123T100000
DTEND;TZID=Europe/Berlin:20251123T120000
DTSTAMP:20260422T121607
CREATED:20251008T155347Z
LAST-MODIFIED:20251008T155347Z
UID:2048-1763892000-1763899200@asv-friedrichshafen.de
SUMMARY:Arbeitseinsatz Familienabend Abbau
DESCRIPTION:Für den Familienabend benötigen wir 4 fleißige Helferlein für den Abbau am nächsten Tag (Sonntag). \nFür nähere Infos ist euer Ansprechpartner Tim Diefenbach (Festwart): 015125265309
URL:https://asv-friedrichshafen.de/event/arbeitseinsatz-familienabend-abbau-2/
END:VEVENT
BEGIN:VEVENT
DTSTART;TZID=Europe/Berlin:20251129T080000
DTEND;TZID=Europe/Berlin:20251129T130000
DTSTAMP:20260422T121607
CREATED:20251117T155814Z
LAST-MODIFIED:20251117T160050Z
UID:2051-1764403200-1764421200@asv-friedrichshafen.de
SUMMARY:Arbeitseinsatz Hegerweiher II
DESCRIPTION:bitte bei Peter Kowalewski melden 017696201886
URL:https://asv-friedrichshafen.de/event/arbeitseinsatz-hegerweiher-ii/
LOCATION:Hegerweiher
END:VEVENT
END:VCALENDAR