BEGIN:VCALENDAR
VERSION:2.0
PRODID:-//ASV Friedrichshafen e.V. - ECPv6.15.20//NONSGML v1.0//EN
CALSCALE:GREGORIAN
METHOD:PUBLISH
X-WR-CALNAME:ASV Friedrichshafen e.V.
X-ORIGINAL-URL:https://asv-friedrichshafen.de
X-WR-CALDESC:Veranstaltungen für ASV Friedrichshafen e.V.
REFRESH-INTERVAL;VALUE=DURATION:PT1H
X-Robots-Tag:noindex
X-PUBLISHED-TTL:PT1H
BEGIN:VTIMEZONE
TZID:Europe/Berlin
BEGIN:DAYLIGHT
TZOFFSETFROM:+0100
TZOFFSETTO:+0200
TZNAME:CEST
DTSTART:20240331T010000
END:DAYLIGHT
BEGIN:STANDARD
TZOFFSETFROM:+0200
TZOFFSETTO:+0100
TZNAME:CET
DTSTART:20241027T010000
END:STANDARD
BEGIN:DAYLIGHT
TZOFFSETFROM:+0100
TZOFFSETTO:+0200
TZNAME:CEST
DTSTART:20250330T010000
END:DAYLIGHT
BEGIN:STANDARD
TZOFFSETFROM:+0200
TZOFFSETTO:+0100
TZNAME:CET
DTSTART:20251026T010000
END:STANDARD
BEGIN:DAYLIGHT
TZOFFSETFROM:+0100
TZOFFSETTO:+0200
TZNAME:CEST
DTSTART:20260329T010000
END:DAYLIGHT
BEGIN:STANDARD
TZOFFSETFROM:+0200
TZOFFSETTO:+0100
TZNAME:CET
DTSTART:20261025T010000
END:STANDARD
END:VTIMEZONE
BEGIN:VEVENT
DTSTART;TZID=Europe/Berlin:20251003T190000
DTEND;TZID=Europe/Berlin:20251003T220000
DTSTAMP:20260422T135132
CREATED:20250104T112524Z
LAST-MODIFIED:20250104T112524Z
UID:1924-1759518000-1759528800@asv-friedrichshafen.de
SUMMARY:Stammtisch im ASV
DESCRIPTION:
URL:https://asv-friedrichshafen.de/event/stammtisch-im-asv-9/
END:VEVENT
BEGIN:VEVENT
DTSTART;TZID=Europe/Berlin:20251007T183000
DTEND;TZID=Europe/Berlin:20251007T220000
DTSTAMP:20260422T135132
CREATED:20250104T113706Z
LAST-MODIFIED:20250104T113706Z
UID:1942-1759861800-1759874400@asv-friedrichshafen.de
SUMMARY:8. Ausschusssitzung
DESCRIPTION:
URL:https://asv-friedrichshafen.de/event/8-ausschusssitzung-3/
END:VEVENT
BEGIN:VEVENT
DTSTART;VALUE=DATE:20251011
DTEND;VALUE=DATE:20251012
DTSTAMP:20260422T135132
CREATED:20250606T120544Z
LAST-MODIFIED:20250606T120544Z
UID:1997-1760140800-1760227199@asv-friedrichshafen.de
SUMMARY:Raubfischworkshop (Jugend)
DESCRIPTION:Ansprechpartner Julian Akermann \nGenaue Uhrzeit in der Einladung.
URL:https://asv-friedrichshafen.de/event/raubfischworkshop-jugend/
END:VEVENT
BEGIN:VEVENT
DTSTART;TZID=Europe/Berlin:20251011T090000
DTEND;TZID=Europe/Berlin:20251011T130000
DTSTAMP:20260422T135132
CREATED:20250906T094035Z
LAST-MODIFIED:20250906T094035Z
UID:2007-1760173200-1760187600@asv-friedrichshafen.de
SUMMARY:Arbeitseinsatz Rotach
DESCRIPTION:Treffpunkt 9:00 ASV \nEnde: 13:00 Uhr \n  \nBitte bei Thomas Stauderer melden.
URL:https://asv-friedrichshafen.de/event/arbeitseinsatz-rotach-4/
LOCATION:Rotach
END:VEVENT
BEGIN:VEVENT
DTSTART;TZID=Europe/Berlin:20251018T080000
DTEND;TZID=Europe/Berlin:20251018T130000
DTSTAMP:20260422T135132
CREATED:20250912T065355Z
LAST-MODIFIED:20250912T065355Z
UID:2012-1760774400-1760792400@asv-friedrichshafen.de
SUMMARY:Arbeitseinsatz am Vereinsheim
DESCRIPTION:Bei Thomas Foss melden
URL:https://asv-friedrichshafen.de/event/arbeitseinsatz-am-vereinsheim/
LOCATION:Vereinsheim
END:VEVENT
BEGIN:VEVENT
DTSTART;TZID=Europe/Berlin:20251025T080000
DTEND;TZID=Europe/Berlin:20251025T160000
DTSTAMP:20260422T135132
CREATED:20250104T113241Z
LAST-MODIFIED:20250104T114206Z
UID:1937-1761379200-1761408000@asv-friedrichshafen.de
SUMMARY:8. Gemeinschaftsfischen
DESCRIPTION:
URL:https://asv-friedrichshafen.de/event/8-gemeinschaftsfischen-3/
END:VEVENT
END:VCALENDAR