BEGIN:VCALENDAR
VERSION:2.0
PRODID:-//ASV Friedrichshafen e.V. - ECPv6.15.20//NONSGML v1.0//EN
CALSCALE:GREGORIAN
METHOD:PUBLISH
X-WR-CALNAME:ASV Friedrichshafen e.V.
X-ORIGINAL-URL:https://asv-friedrichshafen.de
X-WR-CALDESC:Veranstaltungen für ASV Friedrichshafen e.V.
REFRESH-INTERVAL;VALUE=DURATION:PT1H
X-Robots-Tag:noindex
X-PUBLISHED-TTL:PT1H
BEGIN:VTIMEZONE
TZID:Europe/Berlin
BEGIN:DAYLIGHT
TZOFFSETFROM:+0100
TZOFFSETTO:+0200
TZNAME:CEST
DTSTART:20240331T010000
END:DAYLIGHT
BEGIN:STANDARD
TZOFFSETFROM:+0200
TZOFFSETTO:+0100
TZNAME:CET
DTSTART:20241027T010000
END:STANDARD
BEGIN:DAYLIGHT
TZOFFSETFROM:+0100
TZOFFSETTO:+0200
TZNAME:CEST
DTSTART:20250330T010000
END:DAYLIGHT
BEGIN:STANDARD
TZOFFSETFROM:+0200
TZOFFSETTO:+0100
TZNAME:CET
DTSTART:20251026T010000
END:STANDARD
BEGIN:DAYLIGHT
TZOFFSETFROM:+0100
TZOFFSETTO:+0200
TZNAME:CEST
DTSTART:20260329T010000
END:DAYLIGHT
BEGIN:STANDARD
TZOFFSETFROM:+0200
TZOFFSETTO:+0100
TZNAME:CET
DTSTART:20261025T010000
END:STANDARD
END:VTIMEZONE
BEGIN:VEVENT
DTSTART;TZID=Europe/Berlin:20250905T190000
DTEND;TZID=Europe/Berlin:20250905T220000
DTSTAMP:20260422T150536
CREATED:20250104T112458Z
LAST-MODIFIED:20250104T112458Z
UID:1922-1757098800-1757109600@asv-friedrichshafen.de
SUMMARY:Stammtisch im ASV
DESCRIPTION:
URL:https://asv-friedrichshafen.de/event/stammtisch-im-asv-8/
END:VEVENT
BEGIN:VEVENT
DTSTART;TZID=Europe/Berlin:20250912T190000
DTEND;TZID=Europe/Berlin:20250912T220000
DTSTAMP:20260422T150536
CREATED:20250104T113914Z
LAST-MODIFIED:20250104T113914Z
UID:1946-1757703600-1757714400@asv-friedrichshafen.de
SUMMARY:Herbstversammlung
DESCRIPTION:Beginn 19 Uhr im Vereinsheim
URL:https://asv-friedrichshafen.de/event/herbstversammlung-2/
END:VEVENT
BEGIN:VEVENT
DTSTART;TZID=Europe/Berlin:20250913T070000
DTEND;TZID=Europe/Berlin:20250913T150000
DTSTAMP:20260422T150536
CREATED:20250104T113145Z
LAST-MODIFIED:20250104T113205Z
UID:1934-1757746800-1757775600@asv-friedrichshafen.de
SUMMARY:7. Gemeinschaftsfischen (mit Jugendgruppe)
DESCRIPTION:
URL:https://asv-friedrichshafen.de/event/7-gemeinschaftsfischen-mit-jugend/
END:VEVENT
BEGIN:VEVENT
DTSTART;VALUE=DATE:20250920
DTEND;VALUE=DATE:20250921
DTSTAMP:20260422T150536
CREATED:20250606T120644Z
LAST-MODIFIED:20250606T120644Z
UID:1999-1758326400-1758412799@asv-friedrichshafen.de
SUMMARY:Ausflug Salem (Jugend)
DESCRIPTION:Ansprechpartner Julian Akermann \nGenau Uhrzeit in der Einladung
URL:https://asv-friedrichshafen.de/event/ausflug-salem-jugend/
END:VEVENT
BEGIN:VEVENT
DTSTART;VALUE=DATE:20250927
DTEND;VALUE=DATE:20250928
DTSTAMP:20260422T150536
CREATED:20250606T120502Z
LAST-MODIFIED:20250606T120502Z
UID:1995-1758931200-1759017599@asv-friedrichshafen.de
SUMMARY:Holzweiherfischen (Jugendgruppe)
DESCRIPTION:Ansprechpartner Julian Akermann \nGenaue Uhrzeit in der Einladung
URL:https://asv-friedrichshafen.de/event/holzweiherfischen-jugendgruppe/
END:VEVENT
END:VCALENDAR