BEGIN:VCALENDAR
VERSION:2.0
PRODID:-//ASV Friedrichshafen e.V. - ECPv6.15.20//NONSGML v1.0//EN
CALSCALE:GREGORIAN
METHOD:PUBLISH
X-ORIGINAL-URL:https://asv-friedrichshafen.de
X-WR-CALDESC:Veranstaltungen für ASV Friedrichshafen e.V.
REFRESH-INTERVAL;VALUE=DURATION:PT1H
X-Robots-Tag:noindex
X-PUBLISHED-TTL:PT1H
BEGIN:VTIMEZONE
TZID:Europe/Berlin
BEGIN:DAYLIGHT
TZOFFSETFROM:+0100
TZOFFSETTO:+0200
TZNAME:CEST
DTSTART:20240331T010000
END:DAYLIGHT
BEGIN:STANDARD
TZOFFSETFROM:+0200
TZOFFSETTO:+0100
TZNAME:CET
DTSTART:20241027T010000
END:STANDARD
BEGIN:DAYLIGHT
TZOFFSETFROM:+0100
TZOFFSETTO:+0200
TZNAME:CEST
DTSTART:20250330T010000
END:DAYLIGHT
BEGIN:STANDARD
TZOFFSETFROM:+0200
TZOFFSETTO:+0100
TZNAME:CET
DTSTART:20251026T010000
END:STANDARD
BEGIN:DAYLIGHT
TZOFFSETFROM:+0100
TZOFFSETTO:+0200
TZNAME:CEST
DTSTART:20260329T010000
END:DAYLIGHT
BEGIN:STANDARD
TZOFFSETFROM:+0200
TZOFFSETTO:+0100
TZNAME:CET
DTSTART:20261025T010000
END:STANDARD
END:VTIMEZONE
BEGIN:VEVENT
DTSTART;TZID=Europe/Berlin:20251122T080000
DTEND;TZID=Europe/Berlin:20251122T130000
DTSTAMP:20260422T135338
CREATED:20251008T155221Z
LAST-MODIFIED:20251008T155234Z
UID:2045-1763798400-1763816400@asv-friedrichshafen.de
SUMMARY:Arbeitseinsatz Familienabend Aufbau
DESCRIPTION:Für den Familienabend benötigen wir 7 fleißige Helferlein für den Aufbau. \nFür nähere Infos ist euer Ansprechpartner Tim Diefenbach (Festwart): 015125265309
URL:https://asv-friedrichshafen.de/event/arbeitseinsatz-familienabend-aufbau-2/
END:VEVENT
BEGIN:VEVENT
DTSTART;TZID=Europe/Berlin:20251122T183000
DTEND;TZID=Europe/Berlin:20251122T230000
DTSTAMP:20260422T135338
CREATED:20250104T114553Z
LAST-MODIFIED:20250104T115412Z
UID:1950-1763836200-1763852400@asv-friedrichshafen.de
SUMMARY:Familienabend
DESCRIPTION:
URL:https://asv-friedrichshafen.de/event/familienabend-2/
END:VEVENT
END:VCALENDAR